BEGIN:VCALENDAR
VERSION:2.0
PRODID:-//hacksw/handcal//NONSGML v1.0//EN
CALSCALE:GREGORIAN
BEGIN:VEVENT
DTSTART:20250216T180000Z
DTEND:20250216T190000Z
UID:118280-opensimworld.com
DTSTAMP:20260425T013202Z
LOCATION:hg.zetaworlds.com:80:Risa
URL;VALUE=URI: http://opensimworld.com/event/118280
SUMMARY:Valentine Dance Party
END:VEVENT
END:VCALENDAR