BEGIN:VCALENDAR
VERSION:2.0
PRODID:-//hacksw/handcal//NONSGML v1.0//EN
CALSCALE:GREGORIAN
BEGIN:VEVENT
DTSTART:20250225T020000Z
DTEND:20250225T030000Z
UID:118195-opensimworld.com
DTSTAMP:20260423T055709Z
LOCATION:wyldwoodbayou.com:8002:Wyldwood Bayou Hot Daddys
URL;VALUE=URI: http://opensimworld.com/event/118195
SUMMARY:Let’s Rock the Dock with DJ Kith tonight at Hot Daddy’s 6-8PM!
END:VEVENT
END:VCALENDAR