BEGIN:VCALENDAR
VERSION:2.0
PRODID:-//hacksw/handcal//NONSGML v1.0//EN
CALSCALE:GREGORIAN
BEGIN:VEVENT
DTSTART:20250211T140000Z
DTEND:20250211T150000Z
UID:118188-opensimworld.com
DTSTAMP:20260422T123430Z
LOCATION:lfgrid.com:8002:Smithville
URL;VALUE=URI: http://opensimworld.com/event/118188
SUMMARY:Littlefield Grid - Special Meeting 
END:VEVENT
END:VCALENDAR