BEGIN:VCALENDAR
VERSION:2.0
PRODID:-//hacksw/handcal//NONSGML v1.0//EN
CALSCALE:GREGORIAN
BEGIN:VEVENT
DTSTART:20250125T220000Z
DTEND:20250125T230000Z
UID:117636-opensimworld.com
DTSTAMP:20260419T180417Z
LOCATION:lfgrid.com:8002:Parsons Creek
URL;VALUE=URI: http://opensimworld.com/event/117636
SUMMARY:MoonStar Lisa LIVE at Parsons Creek
END:VEVENT
END:VCALENDAR