BEGIN:VCALENDAR
VERSION:2.0
PRODID:-//hacksw/handcal//NONSGML v1.0//EN
CALSCALE:GREGORIAN
BEGIN:VEVENT
DTSTART:20250123T220000Z
DTEND:20250123T230000Z
UID:117571-opensimworld.com
DTSTAMP:20260423T183645Z
LOCATION:pangeagrid.de:8002:inspiring bombshell club
URL;VALUE=URI: http://opensimworld.com/event/117571
SUMMARY:amazing dj and 2 most amazing singers
END:VEVENT
END:VCALENDAR