BEGIN:VCALENDAR
VERSION:2.0
PRODID:-//hacksw/handcal//NONSGML v1.0//EN
CALSCALE:GREGORIAN
BEGIN:VEVENT
DTSTART:20250128T020000Z
DTEND:20250128T030000Z
UID:117033-opensimworld.com
DTSTAMP:20260423T055706Z
LOCATION:wyldwoodbayou.com:8002:Wyldwood Bayou Hot Daddys
URL;VALUE=URI: http://opensimworld.com/event/117033
SUMMARY:It’s a DJ Kith Road Trip to the WWB RP Hub “Not Yo Momma\'s Rennfaire” 6-8PM
END:VEVENT
END:VCALENDAR