BEGIN:VCALENDAR
VERSION:2.0
PRODID:-//hacksw/handcal//NONSGML v1.0//EN
CALSCALE:GREGORIAN
BEGIN:VEVENT
DTSTART:20250103T170000Z
DTEND:20250103T180000Z
UID:116984-opensimworld.com
DTSTAMP:20260424T035348Z
LOCATION:gbg-world.com:8002:La Isla Bonita
URL;VALUE=URI: http://opensimworld.com/event/116984
SUMMARY:Dj Marja 9am New Years Party at THE PIER GBG METAVERSE hop://gbg-world.com:8002/The%20Pier/196/135/24
END:VEVENT
END:VCALENDAR