BEGIN:VCALENDAR
VERSION:2.0
PRODID:-//hacksw/handcal//NONSGML v1.0//EN
CALSCALE:GREGORIAN
BEGIN:VEVENT
DTSTART:20250103T000000Z
DTEND:20250103T010000Z
UID:116973-opensimworld.com
DTSTAMP:20260423T183619Z
LOCATION:pangeagrid.de:8002:inspiring bombshell club
URL;VALUE=URI: http://opensimworld.com/event/116973
SUMMARY:amazing 2 live singers
END:VEVENT
END:VCALENDAR