BEGIN:VCALENDAR
VERSION:2.0
PRODID:-//hacksw/handcal//NONSGML v1.0//EN
CALSCALE:GREGORIAN
BEGIN:VEVENT
DTSTART:20250101T180000Z
DTEND:20250101T190000Z
UID:116794-opensimworld.com
DTSTAMP:20260425T013202Z
LOCATION:hg.zetaworlds.com:80:Risa
URL;VALUE=URI: http://opensimworld.com/event/116794
SUMMARY:Starfleet Infinity presents New Year\'s Day Spaceparty
END:VEVENT
END:VCALENDAR