BEGIN:VCALENDAR
VERSION:2.0
PRODID:-//hacksw/handcal//NONSGML v1.0//EN
CALSCALE:GREGORIAN
BEGIN:VEVENT
DTSTART:20241221T020000Z
DTEND:20241221T030000Z
UID:116460-opensimworld.com
DTSTAMP:20260424T111749Z
LOCATION:hg.osgrid.org:80:ODINS RETREAT
URL;VALUE=URI: http://opensimworld.com/event/116460
SUMMARY:DJ NovaMarieCredre ROCKS PLAYERS CLUB WITH HER MIX OF ROCK & POP 6-8PM
END:VEVENT
END:VCALENDAR