BEGIN:VCALENDAR
VERSION:2.0
PRODID:-//hacksw/handcal//NONSGML v1.0//EN
CALSCALE:GREGORIAN
BEGIN:VEVENT
DTSTART:20241219T230000Z
DTEND:20241220T000000Z
UID:116455-opensimworld.com
DTSTAMP:20260423T183542Z
LOCATION:pangeagrid.de:8002:inspiring bombshell club
URL;VALUE=URI: http://opensimworld.com/event/116455
SUMMARY:amazing dj and 2 live singers
END:VEVENT
END:VCALENDAR