BEGIN:VCALENDAR
VERSION:2.0
PRODID:-//hacksw/handcal//NONSGML v1.0//EN
CALSCALE:GREGORIAN
BEGIN:VEVENT
DTSTART:20241213T000000Z
DTEND:20241213T010000Z
UID:116230-opensimworld.com
DTSTAMP:20260423T183627Z
LOCATION:pangeagrid.de:8002:inspiring bombshell club
URL;VALUE=URI: http://opensimworld.com/event/116230
SUMMARY:2 amazing live singers
END:VEVENT
END:VCALENDAR