BEGIN:VCALENDAR
VERSION:2.0
PRODID:-//hacksw/handcal//NONSGML v1.0//EN
CALSCALE:GREGORIAN
BEGIN:VEVENT
DTSTART:20241231T020000Z
DTEND:20241231T030000Z
UID:116222-opensimworld.com
DTSTAMP:20260423T055718Z
LOCATION:wyldwoodbayou.com:8002:Wyldwood Bayou Hot Daddys
URL;VALUE=URI: http://opensimworld.com/event/116222
SUMMARY:DJ Kith Presents \"It Was a Very Good Year\" at Hot Daddy\'s!
END:VEVENT
END:VCALENDAR