BEGIN:VCALENDAR
VERSION:2.0
PRODID:-//hacksw/handcal//NONSGML v1.0//EN
CALSCALE:GREGORIAN
BEGIN:VEVENT
DTSTART:20241120T212600Z
DTEND:20241120T222600Z
UID:115468-opensimworld.com
DTSTAMP:20260424T135212Z
LOCATION:boots:80:BONFIRE
URL;VALUE=URI: http://opensimworld.com/event/115468
SUMMARY:Boots and Lace
END:VEVENT
END:VCALENDAR