BEGIN:VCALENDAR
VERSION:2.0
PRODID:-//hacksw/handcal//NONSGML v1.0//EN
CALSCALE:GREGORIAN
BEGIN:VEVENT
DTSTART:20241112T020000Z
DTEND:20241112T030000Z
UID:115038-opensimworld.com
DTSTAMP:20260423T055708Z
LOCATION:wyldwoodbayou.com:8002:Wyldwood Bayou Hot Daddys
URL;VALUE=URI: http://opensimworld.com/event/115038
SUMMARY:DJ Rosie \'s Disco Inferno at Hot Daddy\'s 6-8PM!
END:VEVENT
END:VCALENDAR