BEGIN:VCALENDAR
VERSION:2.0
PRODID:-//hacksw/handcal//NONSGML v1.0//EN
CALSCALE:GREGORIAN
BEGIN:VEVENT
DTSTART:20241105T000000Z
DTEND:20241105T010000Z
UID:115022-opensimworld.com
DTSTAMP:20260421T060247Z
LOCATION:ladysdreamworld.opensim.fun:8002:Dream High Fly High Club
URL;VALUE=URI: http://opensimworld.com/event/115022
SUMMARY:grand opening of dream high fly high club
END:VEVENT
END:VCALENDAR