BEGIN:VCALENDAR
VERSION:2.0
PRODID:-//hacksw/handcal//NONSGML v1.0//EN
CALSCALE:GREGORIAN
BEGIN:VEVENT
DTSTART:20241026T010000Z
DTEND:20241026T020000Z
UID:114510-opensimworld.com
DTSTAMP:20260424T111749Z
LOCATION:hg.osgrid.org:80:ODINS RETREAT
URL;VALUE=URI: http://opensimworld.com/event/114510
SUMMARY:DJ NovaMarieCredere spins it up 6-8pm 
END:VEVENT
END:VCALENDAR