BEGIN:VCALENDAR
VERSION:2.0
PRODID:-//hacksw/handcal//NONSGML v1.0//EN
CALSCALE:GREGORIAN
BEGIN:VEVENT
DTSTART:20241029T010000Z
DTEND:20241029T020000Z
UID:114218-opensimworld.com
DTSTAMP:20260423T055708Z
LOCATION:wyldwoodbayou.com:8002:Wyldwood Bayou Hot Daddys
URL;VALUE=URI: http://opensimworld.com/event/114218
SUMMARY:Wyldwood Bayou\'s 4th Anniversary Masquerade Ball with DJ Kith at 6PM!
END:VEVENT
END:VCALENDAR