BEGIN:VCALENDAR
VERSION:2.0
PRODID:-//hacksw/handcal//NONSGML v1.0//EN
CALSCALE:GREGORIAN
BEGIN:VEVENT
DTSTART:20241015T010000Z
DTEND:20241015T020000Z
UID:114148-opensimworld.com
DTSTAMP:20260423T055713Z
LOCATION:wyldwoodbayou.com:8002:Wyldwood Bayou Hot Daddys
URL;VALUE=URI: http://opensimworld.com/event/114148
SUMMARY:DJ Rosie Plays Classic Rock at Hot Daddy\'s tonight at 6:00!
END:VEVENT
END:VCALENDAR