BEGIN:VCALENDAR
VERSION:2.0
PRODID:-//hacksw/handcal//NONSGML v1.0//EN
CALSCALE:GREGORIAN
BEGIN:VEVENT
DTSTART:20241006T190000Z
DTEND:20241006T200000Z
UID:113766-opensimworld.com
DTSTAMP:20260425T013202Z
LOCATION:hg.zetaworlds.com:80:Risa
URL;VALUE=URI: http://opensimworld.com/event/113766
SUMMARY:Starfleet Infinity\'s Cyberpunk Halloween Party
END:VEVENT
END:VCALENDAR