BEGIN:VCALENDAR
VERSION:2.0
PRODID:-//hacksw/handcal//NONSGML v1.0//EN
CALSCALE:GREGORIAN
BEGIN:VEVENT
DTSTART:20240920T191500Z
DTEND:20240920T201500Z
UID:113184-opensimworld.com
DTSTAMP:20260425T205957Z
LOCATION:atlasgrid.fr:8002:Atlas-Fashion
URL;VALUE=URI: http://opensimworld.com/event/113184
SUMMARY:2024 FASHION SHOW
END:VEVENT
END:VCALENDAR