BEGIN:VCALENDAR
VERSION:2.0
PRODID:-//hacksw/handcal//NONSGML v1.0//EN
CALSCALE:GREGORIAN
BEGIN:VEVENT
DTSTART:20240924T010000Z
DTEND:20240924T020000Z
UID:112800-opensimworld.com
DTSTAMP:20260423T055714Z
LOCATION:wyldwoodbayou.com:8002:Wyldwood Bayou Hot Daddys
URL;VALUE=URI: http://opensimworld.com/event/112800
SUMMARY:Dancing on the Dock: EDM-Electronic Dance Music with DJ Kith tonight at Hot Daddy\'s!
END:VEVENT
END:VCALENDAR