BEGIN:VCALENDAR
VERSION:2.0
PRODID:-//hacksw/handcal//NONSGML v1.0//EN
CALSCALE:GREGORIAN
BEGIN:VEVENT
DTSTART:20240910T010000Z
DTEND:20240910T020000Z
UID:112799-opensimworld.com
DTSTAMP:20260423T055717Z
LOCATION:wyldwoodbayou.com:8002:Wyldwood Bayou Hot Daddys
URL;VALUE=URI: http://opensimworld.com/event/112799
SUMMARY:DJ Rosie Spins Rock at Hot Daddy\'s tonight 6-8PM!
END:VEVENT
END:VCALENDAR