BEGIN:VCALENDAR
VERSION:2.0
PRODID:-//hacksw/handcal//NONSGML v1.0//EN
CALSCALE:GREGORIAN
BEGIN:VEVENT
DTSTART:20240212T020000Z
DTEND:20240212T030000Z
UID:112798-opensimworld.com
DTSTAMP:20260423T055716Z
LOCATION:wyldwoodbayou.com:8002:Wyldwood Bayou Hot Daddys
URL;VALUE=URI: http://opensimworld.com/event/112798
SUMMARY:DJ Rosie Spins Rock 6-8PM
END:VEVENT
END:VCALENDAR