BEGIN:VCALENDAR
VERSION:2.0
PRODID:-//hacksw/handcal//NONSGML v1.0//EN
CALSCALE:GREGORIAN
BEGIN:VEVENT
DTSTART:20240827T010000Z
DTEND:20240827T020000Z
UID:111277-opensimworld.com
DTSTAMP:20260423T055708Z
LOCATION:wyldwoodbayou.com:8002:Wyldwood Bayou Hot Daddys
URL;VALUE=URI: http://opensimworld.com/event/111277
SUMMARY:Skate On! DJ Kith spins a Hot Daddy\'s Road Trip to the Wyld Thangs Skate Park!
END:VEVENT
END:VCALENDAR