BEGIN:VCALENDAR
VERSION:2.0
PRODID:-//hacksw/handcal//NONSGML v1.0//EN
CALSCALE:GREGORIAN
BEGIN:VEVENT
DTSTART:20240813T010000Z
DTEND:20240813T020000Z
UID:111261-opensimworld.com
DTSTAMP:20260423T055707Z
LOCATION:wyldwoodbayou.com:8002:Wyldwood Bayou Hot Daddys
URL;VALUE=URI: http://opensimworld.com/event/111261
SUMMARY:\"Girls Night\" at Hot Daddy\'s with DJ Rosie!!
END:VEVENT
END:VCALENDAR