BEGIN:VCALENDAR
VERSION:2.0
PRODID:-//hacksw/handcal//NONSGML v1.0//EN
CALSCALE:GREGORIAN
BEGIN:VEVENT
DTSTART:20240718T000000Z
DTEND:20240718T010000Z
UID:110840-opensimworld.com
DTSTAMP:20260425T152137Z
LOCATION:bridgemere.outworldz.net:8002:Tun Il Ha
URL;VALUE=URI: http://opensimworld.com/event/110840
SUMMARY:HG Fireside Chat
END:VEVENT
END:VCALENDAR