BEGIN:VCALENDAR
VERSION:2.0
PRODID:-//hacksw/handcal//NONSGML v1.0//EN
CALSCALE:GREGORIAN
BEGIN:VEVENT
DTSTART:20240723T010000Z
DTEND:20240723T020000Z
UID:110615-opensimworld.com
DTSTAMP:20260423T055715Z
LOCATION:wyldwoodbayou.com:8002:Wyldwood Bayou Hot Daddys
URL;VALUE=URI: http://opensimworld.com/event/110615
SUMMARY:DJ Kith Mixes it Up with Grunge and Alternative Rock Tonight at Hot Daddy\'s 6-8PM
END:VEVENT
END:VCALENDAR