BEGIN:VCALENDAR
VERSION:2.0
PRODID:-//hacksw/handcal//NONSGML v1.0//EN
CALSCALE:GREGORIAN
BEGIN:VEVENT
DTSTART:20240709T010500Z
DTEND:20240709T020500Z
UID:110127-opensimworld.com
DTSTAMP:20260423T055709Z
LOCATION:wyldwoodbayou.com:8002:Wyldwood Bayou Hot Daddys
URL;VALUE=URI: http://opensimworld.com/event/110127
SUMMARY:DJ Rosie spins Grooves in Motion at Hot Daddy\'s tonight 6-8PM
END:VEVENT
END:VCALENDAR