BEGIN:VCALENDAR
VERSION:2.0
PRODID:-//hacksw/handcal//NONSGML v1.0//EN
CALSCALE:GREGORIAN
BEGIN:VEVENT
DTSTART:20240607T170000Z
DTEND:20240607T180000Z
UID:109521-opensimworld.com
DTSTAMP:20260424T035349Z
LOCATION:gbg-world.com:8002:La Isla Bonita
URL;VALUE=URI: http://opensimworld.com/event/109521
SUMMARY:NOW  Dj Cloey 10am at THE PIER GBG METAVERSE hop://gbg-world.com:8002/The%20Pier/196/135/24
END:VEVENT
END:VCALENDAR