BEGIN:VCALENDAR
VERSION:2.0
PRODID:-//hacksw/handcal//NONSGML v1.0//EN
CALSCALE:GREGORIAN
BEGIN:VEVENT
DTSTART:20240611T010000Z
DTEND:20240611T020000Z
UID:109187-opensimworld.com
DTSTAMP:20260423T075723Z
LOCATION:wyldwoodbayou.com:8002:Wyldwood Bayou Hot Daddys
URL;VALUE=URI: http://opensimworld.com/event/109187
SUMMARY:DJ Rosie Takes Us on a Trip to The Place of Origin Tonight at 6PM!
END:VEVENT
END:VCALENDAR