BEGIN:VCALENDAR
VERSION:2.0
PRODID:-//hacksw/handcal//NONSGML v1.0//EN
CALSCALE:GREGORIAN
BEGIN:VEVENT
DTSTART:20240625T010000Z
DTEND:20240625T020000Z
UID:109084-opensimworld.com
DTSTAMP:20260423T055709Z
LOCATION:wyldwoodbayou.com:8002:Wyldwood Bayou Hot Daddys
URL;VALUE=URI: http://opensimworld.com/event/109084
SUMMARY:DJ Kith takes a Road Trip to the WWB Roleplay Hub for Not Yo Momma\'s Rennfaire Tunes 6-8PM
END:VEVENT
END:VCALENDAR