BEGIN:VCALENDAR
VERSION:2.0
PRODID:-//hacksw/handcal//NONSGML v1.0//EN
CALSCALE:GREGORIAN
BEGIN:VEVENT
DTSTART:20240528T010000Z
DTEND:20240528T020000Z
UID:108373-opensimworld.com
DTSTAMP:20260423T055710Z
LOCATION:wyldwoodbayou.com:8002:Wyldwood Bayou Hot Daddys
URL;VALUE=URI: http://opensimworld.com/event/108373
SUMMARY:DJ Kith Rocks the Dock with tunes from the 60s and 70s tonight at Hot Daddy’s
END:VEVENT
END:VCALENDAR