BEGIN:VCALENDAR
VERSION:2.0
PRODID:-//hacksw/handcal//NONSGML v1.0//EN
CALSCALE:GREGORIAN
BEGIN:VEVENT
DTSTART:20240514T010000Z
DTEND:20240514T020000Z
UID:108370-opensimworld.com
DTSTAMP:20260423T055709Z
LOCATION:wyldwoodbayou.com:8002:Wyldwood Bayou Hot Daddys
URL;VALUE=URI: http://opensimworld.com/event/108370
SUMMARY:DJ Rosie\'s Musical Potpourri at Hot Daddy\'s tonight at 6:00!
END:VEVENT
END:VCALENDAR