BEGIN:VCALENDAR
VERSION:2.0
PRODID:-//hacksw/handcal//NONSGML v1.0//EN
CALSCALE:GREGORIAN
BEGIN:VEVENT
DTSTART:20240421T080800Z
DTEND:20240421T090800Z
UID:107988-opensimworld.com
DTSTAMP:20260424T074239Z
LOCATION:login.digiworldz.com:8002:Littleworld
URL;VALUE=URI: http://opensimworld.com/event/107988
SUMMARY:Country Mix by: DJ Jax and Host Beth Knight 
END:VEVENT
END:VCALENDAR