BEGIN:VCALENDAR
VERSION:2.0
PRODID:-//hacksw/handcal//NONSGML v1.0//EN
CALSCALE:GREGORIAN
BEGIN:VEVENT
DTSTART:20240423T010000Z
DTEND:20240423T020000Z
UID:107611-opensimworld.com
DTSTAMP:20260423T055708Z
LOCATION:wyldwoodbayou.com:8002:Wyldwood Bayou Hot Daddys
URL;VALUE=URI: http://opensimworld.com/event/107611
SUMMARY:DJ Kith’s Tribal Rhythms shake Hot Daddy’s on April 22 from 6-8PM
END:VEVENT
END:VCALENDAR