BEGIN:VCALENDAR
VERSION:2.0
PRODID:-//hacksw/handcal//NONSGML v1.0//EN
CALSCALE:GREGORIAN
BEGIN:VEVENT
DTSTART:20240404T200000Z
DTEND:20240404T210000Z
UID:107425-opensimworld.com
DTSTAMP:20260424T085521Z
LOCATION:sharingiscaring.family:8002:Gavezdois
URL;VALUE=URI: http://opensimworld.com/event/107425
SUMMARY:João Frazão at GavezDois Art Gallery
END:VEVENT
END:VCALENDAR