BEGIN:VCALENDAR
VERSION:2.0
PRODID:-//hacksw/handcal//NONSGML v1.0//EN
CALSCALE:GREGORIAN
BEGIN:VEVENT
DTSTART:20240404T053100Z
DTEND:20240404T063100Z
UID:107416-opensimworld.com
DTSTAMP:20260424T174235Z
LOCATION:hg.osgrid.org:80:VOGUE CDMX
URL;VALUE=URI: http://opensimworld.com/event/107416
SUMMARY:Rafaela\'s Live Performance
END:VEVENT
END:VCALENDAR