BEGIN:VCALENDAR
VERSION:2.0
PRODID:-//hacksw/handcal//NONSGML v1.0//EN
CALSCALE:GREGORIAN
BEGIN:VEVENT
DTSTART:20240404T193000Z
DTEND:20240404T203000Z
UID:107415-opensimworld.com
DTSTAMP:20260424T135213Z
LOCATION:hg.osgrid.org:80:VOGUE CDMX
URL;VALUE=URI: http://opensimworld.com/event/107415
SUMMARY:Dj Poseidon
END:VEVENT
END:VCALENDAR