BEGIN:VCALENDAR
VERSION:2.0
PRODID:-//hacksw/handcal//NONSGML v1.0//EN
CALSCALE:GREGORIAN
BEGIN:VEVENT
DTSTART:20240401T200000Z
DTEND:20240401T210000Z
UID:107327-opensimworld.com
DTSTAMP:20260424T085521Z
LOCATION:sharingiscaring.family:8002:Gavezdois
URL;VALUE=URI: http://opensimworld.com/event/107327
SUMMARY:Putri\'s Show
END:VEVENT
END:VCALENDAR