BEGIN:VCALENDAR
VERSION:2.0
PRODID:-//hacksw/handcal//NONSGML v1.0//EN
CALSCALE:GREGORIAN
BEGIN:VEVENT
DTSTART:20240409T010000Z
DTEND:20240409T020000Z
UID:107311-opensimworld.com
DTSTAMP:20260423T055709Z
LOCATION:wyldwoodbayou.com:8002:Wyldwood Bayou Hot Daddys
URL;VALUE=URI: http://opensimworld.com/event/107311
SUMMARY:DJ Rosie \'s Monday Night Fever at Hot Daddy\'s 6-8PM!
END:VEVENT
END:VCALENDAR