BEGIN:VCALENDAR
VERSION:2.0
PRODID:-//hacksw/handcal//NONSGML v1.0//EN
CALSCALE:GREGORIAN
BEGIN:VEVENT
DTSTART:20240318T180000Z
DTEND:20240318T190000Z
UID:106860-opensimworld.com
DTSTAMP:20260424T035350Z
LOCATION:gbg-world.com:8002:La Isla Bonita
URL;VALUE=URI: http://opensimworld.com/event/106860
SUMMARY:Dj Marja 11AM WITH A SPECIAL SET TO REMEMBERING DJ FLASH  AT THE PIER CLUB GBG WORLD hop://gbg-world.com:8002/The%20Pier/196/135/24
END:VEVENT
END:VCALENDAR