BEGIN:VCALENDAR
VERSION:2.0
PRODID:-//hacksw/handcal//NONSGML v1.0//EN
CALSCALE:GREGORIAN
BEGIN:VEVENT
DTSTART:20240313T210000Z
DTEND:20240313T220000Z
UID:106697-opensimworld.com
DTSTAMP:20260424T085522Z
LOCATION:sharingiscaring.family:8002:Gavezdois
URL;VALUE=URI: http://opensimworld.com/event/106697
SUMMARY:GavezDois Art Gallery Launch Show
END:VEVENT
END:VCALENDAR