BEGIN:VCALENDAR
VERSION:2.0
PRODID:-//hacksw/handcal//NONSGML v1.0//EN
CALSCALE:GREGORIAN
BEGIN:VEVENT
DTSTART:20240307T210000Z
DTEND:20240307T220000Z
UID:106672-opensimworld.com
DTSTAMP:20260425T193312Z
LOCATION:hg.caribougrid.com:16002:Caribou
URL;VALUE=URI: http://opensimworld.com/event/106672
SUMMARY:The amazing and wonderful Lucky Chiung Live
END:VEVENT
END:VCALENDAR