BEGIN:VCALENDAR
VERSION:2.0
PRODID:-//hacksw/handcal//NONSGML v1.0//EN
CALSCALE:GREGORIAN
BEGIN:VEVENT
DTSTART:20240305T210000Z
DTEND:20240305T220000Z
UID:106470-opensimworld.com
DTSTAMP:20260424T085521Z
LOCATION:astralia.eu:8002:Persiana
URL;VALUE=URI: http://opensimworld.com/event/106470
SUMMARY:Gold Party
END:VEVENT
END:VCALENDAR