BEGIN:VCALENDAR
VERSION:2.0
PRODID:-//hacksw/handcal//NONSGML v1.0//EN
CALSCALE:GREGORIAN
BEGIN:VEVENT
DTSTART:20240304T180000Z
DTEND:20240304T190000Z
UID:106449-opensimworld.com
DTSTAMP:20260424T035351Z
LOCATION:gbg-world.com:8002:La Isla Bonita
URL;VALUE=URI: http://opensimworld.com/event/106449
SUMMARY:DJ MARJA AT 10AM AT THE PIER CLUB GBG METAVERSE hop://gbg-world.com:8002/The%20Pier/196/135/24
END:VEVENT
END:VCALENDAR