BEGIN:VCALENDAR
VERSION:2.0
PRODID:-//hacksw/handcal//NONSGML v1.0//EN
CALSCALE:GREGORIAN
BEGIN:VEVENT
DTSTART:20240326T010000Z
DTEND:20240326T020000Z
UID:106359-opensimworld.com
DTSTAMP:20260423T055713Z
LOCATION:wyldwoodbayou.com:8002:Wyldwood Bayou Hot Daddys
URL;VALUE=URI: http://opensimworld.com/event/106359
SUMMARY:Monday Night Live! - DJ Riker Plays Live Recordings at Hot Daddy\'s tonight at 6:00PM!
END:VEVENT
END:VCALENDAR