BEGIN:VCALENDAR
VERSION:2.0
PRODID:-//hacksw/handcal//NONSGML v1.0//EN
CALSCALE:GREGORIAN
BEGIN:VEVENT
DTSTART:20240312T010000Z
DTEND:20240312T020000Z
UID:106358-opensimworld.com
DTSTAMP:20260423T075724Z
LOCATION:wyldwoodbayou.com:8002:Wyldwood Bayou Hot Daddys
URL;VALUE=URI: http://opensimworld.com/event/106358
SUMMARY:Most Requested - DJ Rosie Spins Your Favs at Hot Daddy\'s tonight at 6:00PM!
END:VEVENT
END:VCALENDAR