BEGIN:VCALENDAR
VERSION:2.0
PRODID:-//hacksw/handcal//NONSGML v1.0//EN
CALSCALE:GREGORIAN
BEGIN:VEVENT
DTSTART:20240227T200000Z
DTEND:20240227T210000Z
UID:106272-opensimworld.com
DTSTAMP:20260425T193314Z
LOCATION:hg.caribougrid.com:16002:Caribou
URL;VALUE=URI: http://opensimworld.com/event/106272
SUMMARY:Caribou SkyInn Rocks with DJ Rich 12 - 14 SLT
END:VEVENT
END:VCALENDAR