BEGIN:VCALENDAR
VERSION:2.0
PRODID:-//hacksw/handcal//NONSGML v1.0//EN
CALSCALE:GREGORIAN
BEGIN:VEVENT
DTSTART:20240227T200000Z
DTEND:20240227T210000Z
UID:106271-opensimworld.com
DTSTAMP:20260424T035358Z
LOCATION:gbg-world.com:8002:La Isla Bonita
URL;VALUE=URI: http://opensimworld.com/event/106271
SUMMARY:TODAY Dj LADYJO 12PM at THE PIER CLUB GBG WORLD  hop://gbg-world.com:8002/The%20Pier/196/135/24
END:VEVENT
END:VCALENDAR